BEGIN:VCALENDAR
VERSION:2.0
PRODID:-//Crossworks - Project Management. Leadership. Design Thinking Trainings. - ECPv6.15.20//NONSGML v1.0//EN
CALSCALE:GREGORIAN
METHOD:PUBLISH
X-WR-CALNAME:Crossworks - Project Management. Leadership. Design Thinking Trainings.
X-ORIGINAL-URL:https://crossworks.ph
X-WR-CALDESC:Events for Crossworks - Project Management. Leadership. Design Thinking Trainings.
REFRESH-INTERVAL;VALUE=DURATION:PT1H
X-Robots-Tag:noindex
X-PUBLISHED-TTL:PT1H
BEGIN:VTIMEZONE
TZID:Asia/Manila
BEGIN:STANDARD
TZOFFSETFROM:+0800
TZOFFSETTO:+0800
TZNAME:PST
DTSTART:20250101T000000
END:STANDARD
END:VTIMEZONE
BEGIN:VEVENT
DTSTART;TZID=Asia/Manila:20260128T090000
DTEND;TZID=Asia/Manila:20260129T170000
DTSTAMP:20260420T081527
CREATED:20251020T113459Z
LAST-MODIFIED:20260105T030257Z
UID:10000305-1769590800-1769706000@crossworks.ph
SUMMARY:Project Management Essentials
DESCRIPTION:Project Management Essentials\n\n\nProject Management Essentials is the ultimate crash course in project management! Get ready to face the Project Economy! This two-day activity-based\, learner-centered course on project management essentials is ideal for project managers with little or no formal training in project management. It is based on the A Guide to the Project Management Body of Knowledge (PMBOK)® Guide 6th and 7th Editions\, the de facto global standard on project management. Whether you are working on Waterfall or Agile projects\, this course is suited for you. In a gamified environment\, participants are immersed in real-world simulations using typical project management tools and techniques for optimum learning\, retention\, and fun. Be an awesome project manager. Learn the essential skills of project management today. \nAt the end of this course\, participants should be able to\n\nDescribe the basic concepts of project management\nDescribe the different roles and responsibilities of the Project Manager\, the PMO\, and the Project Stakeholders\nKnow the essential deliverables commonly used during Project Initiation\nKnow the essential activities and deliverables during Project Planning\nKnow the essential activities and deliverables during Project Execution\nKnow the essential activities and deliverables during Project Monitoring and Controlling\nKnow the essential activities and deliverables during Project Closing\n\nCourse Outline\n\nIntroductory Concepts on Project Management\n\nProjects\, Programs\, and Portfolios\nProjects and Operations\nProject Phases\nProject Management Knowledge Areas\nThe Project Manager\nPM 101\nThe Project Management Office (PMO)\nThe Project Stakeholders\n\n\nProject Initiation\n\nThe Business Case\nThe Project Charter\n\n\nProject Planning\n\nThe Project Management Plan\nThe Work Breakdown Structure\nThe Activity List\nWork vs Duration\nLogical Dependencies\nMandatory vs Discretionary Dependencies\nLeads and Lags\nThe Schedule Network Diagram\nThe Critical Path\nSchedule Compression Techniques\nThe Project Schedule\nCost Budgeting\nQuality Planning\nResource Planning\nCommunication Planning\nRisk Planning\nProcurement Planning\nStakeholder Analysis\n\n\nProject Executing\n\nAcquiring and Developing Resources\nPerformance Reporting\nManaging Stakeholder Engagement\n\n\nProject Monitoring and Controlling\n\nEarned Value Analysis\nRisk Register\nIntegrated Change Control\n\n\nProject Closing\n\nLessons Learned Register\nProject Closure\n\n\n\nCourse Duration\n\n2 days – face to face\n\nDelivery Methodologies\n\nLecture\nTeam based activities\nIndividual activities\nOnline Quizzes\nPlenary Discussions\n\nThis course is recommended for\n\nProject Managers and Project Team members with little or no formal PM training\nProject Executives\nProject Stakeholders\nAnyone involved in the development and implementation of projects\n\nCrossworks Training and Consulting Corporation is an Authorized Training Partner of the Project Management Institute. You are guaranteed of quality training materials and exclusive content directly from PMI\, the de facto organization for project management globally. Our project manager trainers are all top caliber and have handled extensive projects in various industries. \n\n\n\n\n\nCourse Name\nProject Management Essentials\n\n\nTraining Dates\nJanuary 28-29\, 2026\n\n\nTraining Time\n9:00AM – 5:00PM\n\n\nTraining Venue\nMarco Polo Ortigas Manila\n\n\nCourse Fee\n\n\n\n\nStandard Rate\nPhp 28\,000\n\n\nEarly Bird Rate (Until December 29\, 2025)\nPhp 25\,200\n\n\nGroup of 4 Rate (Contact Us to Register)\nPhp 23\,800\n\n\n\n\n\n\nInclusive Of\n\n\n\n\nCourse Materials and Handouts\nCourse Certificates\nBuffet Lunch (if available\, otherwise plated) and AM/PM Snacks
URL:https://crossworks.ph/event/project-management-essentials-2/
LOCATION:Marco Polo Ortigas Manila\, Meralco Avenue\, Sapphire Rd\, Ortigas Center\,\, Pasig\, Metro Manila\, 1600\, Philippines
CATEGORIES:Face-to-Face
ATTACH;FMTTYPE=image/png:https://crossworks.ph/wp-content/uploads/2023/04/CourseImage-EB-PME.png
ORGANIZER;CN="Crossworks Training and Consulting Corp":MAILTO:info@crossworks.ph
END:VEVENT
END:VCALENDAR