BEGIN:VCALENDAR
VERSION:2.0
PRODID:-//Crossworks - Project Management. Leadership. Design Thinking Trainings. - ECPv6.15.20//NONSGML v1.0//EN
CALSCALE:GREGORIAN
METHOD:PUBLISH
X-ORIGINAL-URL:https://crossworks.ph
X-WR-CALDESC:Events for Crossworks - Project Management. Leadership. Design Thinking Trainings.
REFRESH-INTERVAL;VALUE=DURATION:PT1H
X-Robots-Tag:noindex
X-PUBLISHED-TTL:PT1H
BEGIN:VTIMEZONE
TZID:Asia/Manila
BEGIN:STANDARD
TZOFFSETFROM:+0800
TZOFFSETTO:+0800
TZNAME:PST
DTSTART:20250101T000000
END:STANDARD
END:VTIMEZONE
BEGIN:VEVENT
DTSTART;TZID=Asia/Manila:20260420T090000
DTEND;TZID=Asia/Manila:20260422T120000
DTSTAMP:20260425T094046
CREATED:20251023T150236Z
LAST-MODIFIED:20251023T151120Z
UID:10000330-1776675600-1776859200@crossworks.ph
SUMMARY:PECB ISO/IEC 42001 Lead Implementer
DESCRIPTION:PECB ISO/IEC 42001 Lead Implementer\n\n\n \n  \nArtificial intelligence (AI) is becoming a driving force in today’s technology landscape. Its application has spanned across numerous sectors. Its rapid expansion brought unique challenges and considerations that demand specific expertise to ensure its effective implementation and responsible management. The PECB ISO/IEC 42001 Lead Implementer training course is your gateway to mastering the practical implementation and responsible management of AI management system. \nThe PECB ISO/IEC 42001 Lead Implementer training course is designed to prepare you to implement AI management system in accordance with ISO/IEC 42001. It provides you with the necessary competencies to effectively translate AI strategies into actionable solutions. It aims to provide a comprehensive understanding of AI implementation best practices and a framework for its successful integration within organizations\, equipping you with the hands-on expertise to drive AIMS implementation projects. \nAfter successfully completing the course and passing the exam\, you can apply for the “PECB Certified ISO/IEC 42001 Lead Implementer” credential that demonstrates your ability to effectively implement AI strategies. \nAt the end of this course\, participants should be able to:\n\nExplain the fundamental concepts and principles of an AIMS based on ISO/IEC 42001\nInterpret the ISO/IEC 42001 requirements for an AIMS from the perspective of an implementer\nInitiate and plan the implementation of an AIMS based on ISO/IEC 42001 by utilizing PECB’s IMS2 Methodology and other best practices\nSupport an organization in operating\, maintaining\, and continually improving an AIMS based on ISO/IEC 42001\nPrepare an organization to undergo a third party certification audit\n\nCourse Outline\nDay 1: Introduction to ISO/IEC 42001 and the initiation of an AIMS implementation \nDay 2: Planning the implementation of an AIMS \nDay 3: Implementation of an AIMS \nDay 4: AIMS monitoring\, continual improvement\, and preparation for the certification audit \nDay 5: Certification exam \nCourse Duration\n5 half-days (with offline work) – Online Classroom \nTarget Audience\n\nProfessionals responsible for overseeing and managing AI projects\nConsultants advising on AI implementation strategies\nExpert advisors and specialists aiming to master the practical implementation of AIMS in accordance with ISO/IEC 42001\nIndividuals tasked with ensuring that AI projects adhere to AI requirements within an organization\nMembers of AIMS implementation teams involved in the implementation of AI systems\nExecutives and managers seeking to make informed decisions regarding AI implementation and its alignment with ISO/IEC 42001\n\n\nCrossworks Training and Consulting Corporation is a partner of the Professional Evaluation and Certification Board based in Canada. We conduct official trainings and proctor certification exams that are recognized and well regarded by industries globally.\n \n\n\n\n\n\nCourse Name\nPECB ISO/IEC 42001 Lead Implementer\n\n\nTraining Dates\nApril 20-24\, 2026\n\n\nTraining Time\n9:00AM – 12:00NN\n\n\nTraining Venue\nOnline via Zoom (link to be provided after registration)\n\n\nCourse Fee\n\n\n\n\nStandard Rate\nPhp 50\,000\n\n\nEarly Bird Rate (Until April 6\, 2026)\nPhp 47\,500\n\n\nGroup of 4 Rate (Contact Us to Register)\nPhp 45\,000\n\n\n\n\n\n\nInclusive Of\n\n\n\n\nSoft copy of Course Materials and Handouts\nSoft copy of Course Certificates\nCertification Exam Voucher
URL:https://crossworks.ph/event/pecb-iso-iec-42001-lead-implementer-2/
LOCATION:Online
CATEGORIES:Online
ATTACH;FMTTYPE=image/png:https://crossworks.ph/wp-content/uploads/2025/10/CourseImage-OC-AILI.png
ORGANIZER;CN="Crossworks Training and Consulting Corp":MAILTO:info@crossworks.ph
END:VEVENT
BEGIN:VEVENT
DTSTART;TZID=Asia/Manila:20260417T090000
DTEND;TZID=Asia/Manila:20260417T120000
DTSTAMP:20260425T094046
CREATED:20251023T162313Z
LAST-MODIFIED:20251023T162313Z
UID:10000334-1776416400-1776427200@crossworks.ph
SUMMARY:AI 101: Fundamentals of Artificial Intelligence Management Systems based on ISO 42001
DESCRIPTION:AI 101: Fundamentals of Artificial Intelligence Management Systems based on ISO 42001\n\n\nThis introductory course provides a foundational understanding of Artificial Intelligence (AI) and the principles of an Artificial Intelligence Management System (AIMS) based on the ISO 42001 standard. It explores the key concepts\, benefits\, and challenges of AI\, and how ISO 42001 provides a framework for organizations to responsibly and effectively manage their AI systems. This course is ideal for individuals seeking a general overview of AI governance and the role of ISO 42001. \nUpon completion of this course\, participants will be able to:\n\nDefine Artificial Intelligence (AI) and related key concepts.\nUnderstand the benefits and potential risks associated with AI systems.\nExplain the purpose and structure of ISO 42001: Artificial Intelligence Management System.\nIdentify the key principles and requirements of ISO 42001.\nRecognize the importance of ethical considerations and responsible AI development and deployment.\nUnderstand how an AIMS based on ISO 42001 can benefit an organization.\nDescribe the relationship between ISO 42001 and other relevant standards and regulations.\n\nCourse Outline:\nModule 1: Introduction to Artificial Intelligence \n\nWhat is Artificial Intelligence? Defining AI\, Machine Learning\, Deep Learning\, and other related terms\nBrief History and Evolution of AI\nThe Potential Benefits and Opportunities of AI\nThe Potential Risks and Challenges of AI (Bias\, Transparency\, Accountability\, etc.)\n\nModule 2: The Need for AI Governance and ISO 42001 \n\nThe Importance of Managing AI Effectively and Ethically\nChallenges in Governing AI Systems\nIntroduction to Management Systems and their Benefits\nOverview of ISO 42001: Purpose\, Scope\, and Structure\nThe Principles of an Artificial Intelligence Management System\nBenefits of Implementing an AIMS based on ISO 42001\nInteractive Exercise: Identifying AI risks and benefits in a given scenario\n\nModule 3: Key Concepts and Requirements of ISO 42001 \n\nUnderstanding the Context of the Organization in relation to AI\nLeadership and Commitment in AI Governance\nPlanning for the AIMS: Objectives\, Risk Assessment\, and Treatment\nSupport: Resources\, Competence\, Awareness\, Communication\, and Documented Information\nOperation: AI Development Lifecycle\, Data Management\, Validation and Verification\nPerformance Evaluation: Monitoring\, Measurement\, Analysis\, and Evaluation\nImprovement: Nonconformity and Corrective Action\, Continual Improvement\n\nModule 4: Responsible AI and the Way Forward \n\nEthical Considerations in AI Development and Deployment\nAddressing Bias\, Fairness\, and Transparency in AI\nAccountability and Responsibility in AI Systems\nThe Role of ISO 42001 in Promoting Responsible AI\nNext Steps for Learning More about ISO 42001\nFinal Q&A and Course Wrap-up\n\nCourse Duration\n\n4 – hours – Virtual Classroom\n\nTarget Audience:\n\nIndividuals with no prior in-depth knowledge of AI or management systems\nManagers and professionals interested in understanding the basics of AI governance and ethical considerations\nEmployees who will interact with or be affected by AI systems within their organization\nIndividuals considering further training in ISO 42001 implementation or auditing\n\n\n\n\n\n\n\nCourse Name\nAI 101: Fundamentals of Artificial Intelligence Management Systems based on ISO 42001\n\n\nTraining Dates\nApril 17\, 2026\n\n\nTraining Time\n9:00AM – 12:00NN\n\n\nTraining Venue\nOnline via Zoom (link to be provided after registration)\n\n\nCourse Fee\n\n\n\n\nStandard Rate\nPhp 10\,000\n\n\nEarly Bird Rate (Until April 3\, 2026)\nPhp 9\,000\n\n\nGroup of 4 Rate (Contact Us to Register)\nPhp 8\,500\n\n\n\n\n\n\nInclusive Of\n\n\n\n\nSoft copy of Course Materials and Handouts\nSoft copy of Course Certificates
URL:https://crossworks.ph/event/ai-101-fundamentals-of-artificial-intelligence-management-systems-based-on-iso-42001/
LOCATION:Online
CATEGORIES:Online
ATTACH;FMTTYPE=image/png:https://crossworks.ph/wp-content/uploads/2025/10/CourseImage-OC-AI101.png
ORGANIZER;CN="Crossworks Training and Consulting Corp":MAILTO:info@crossworks.ph
END:VEVENT
BEGIN:VEVENT
DTSTART;TZID=Asia/Manila:20260305T090000
DTEND;TZID=Asia/Manila:20260306T120000
DTSTAMP:20260425T094046
CREATED:20251023T232013Z
LAST-MODIFIED:20260108T112033Z
UID:10000341-1772701200-1772798400@crossworks.ph
SUMMARY:Auditing Artificial Intelligence Management Systems based on ISO 42001
DESCRIPTION:Auditing Artificial Intelligence Management Systems based on ISO 42001\n\n\nThis course equips participants with the knowledge and skills necessary to plan\, conduct\, and report on internal audits of an Artificial Intelligence Management System (AIMS) based on ISO 42001. Participants will learn the principles of auditing artificial intelligence management systems\, the specific requirements of ISO 42001 from an auditor’s perspective\, and best practices for conducting effective and value-added audits in a virtual environment. This course is designed for individuals who will be performing internal audits of an ISO 42001-based AIMS. \nUpon completion of this course\, participants will be able to:\n\nUnderstand the principles of auditing as defined in ISO 19011\nInterpret the requirements of ISO 42001 from an audit perspective\nPlan and prepare for an internal audit of an AIMS\nDevelop audit checklists and working documents\nConduct effective audit interviews in a virtual setting\nGather and evaluate audit evidence related to AI processes and controls\nIdentify and document audit findings\, including nonconformities\, observations\, and strengths\nPrepare audit reports that are clear\, concise\, and objective\nUnderstand the follow-up process for audit findings\nApply auditing techniques specific to AI systems (e.g.\, bias detection\, transparency\, accountability)\n\nCourse Outline :\nDay 1 : \nModule 1: Principles of Auditing and ISO 19011 \n\nIntroduction to Auditing: Definition\, Types of Audits\nThe Principles of Auditing\nOverview of ISO 19011: Guidelines for Auditing Management Systems\nManaging an Audit Program\nRoles and Responsibilities of Auditors\nEthical Considerations for Auditors\n\nModule 2: Auditing the Requirements of ISO 42001 \n\nAuditing Clause 4: Context of the Organization (Understanding AI landscape\, stakeholder expectations)\nAuditing Clause 5: Leadership (Commitment\, AI Policy\, Assignment of Responsibilities)\nAuditing Clause 6: Planning (AI Risk Assessment and Treatment\, AI Objectives and Planning)\nAuditing Clause 7: Support (Resources\, Competence\, Awareness\, Communication\, Documented Information related to AI)\n\nModule 3: Planning and Preparing for an AIMS Audit (0.5 hours) \n\nDefining the Audit Objectives\, Scope\, and Criteria\nEstablishing the Audit Team\nDeveloping the Audit Plan\nPreparing Audit Checklists and Working Documents for AI-specific processes\n\nDay 2 : \nModule 4: Conducting the AIMS Audit \n\nOpening Meeting (Purpose and Agenda)\nConducting Audit Interviews Effectively in a Virtual Environment\nGathering and Verifying Audit Evidence related to AI systems and processes\nEvaluating Audit Evidence against ISO 42001 requirements\nAuditing Specific AI Aspects:\nData Management and Governance\nAI Development Lifecycle Controls\nValidation and Verification Processes\nHuman Oversight and Decision-Making\nManagement of Bias\, Fairness\, and Transparency\nAccountability Mechanisms\n\nModule 5: Documenting Audit Findings and Reporting (1.5 hours) \n\nIdentifying and Classifying Audit Findings (Nonconformities\, Observations\, Strengths)\nWriting Clear\, Concise\, and Objective Audit Findings\nPreparing the Audit Report: Content and Structure\nCommunicating Audit Findings to the Auditee\nClosing Meeting (Presenting Audit Findings)\n\nModule 6: Audit Follow-up and Continual Improvement (0.5 hours) \n\nThe Importance of Corrective Actions\nEvaluating the Effectiveness of Corrective Actions\nThe Role of Auditing in the Continual Improvement of the AIMS\n\nCourse Duration\n\n2 half-days – Online Classroom\n\nTarget Audience:\n\nInternal Auditors\nQuality Management Professionals responsible for internal audits\nAI Project Managers and Team Members involved in AIMS compliance\nIndividuals seeking to become qualified internal auditors for ISO 42001\nConsultants assisting organizations with AIMS audits\n\n\n\n\n\n\n\nCourse Name\nAuditing Artificial Intelligence Management Systems based on ISO 42001\n\n\nTraining Dates\nMarch 5-6\, 2026\n\n\nTraining Time\n9:00AM – 12:00NN\n\n\nTraining Venue\nOnline via Zoom (link to be provided after registration)\n\n\nCourse Fee\n\n\n\n\nStandard Rate\nPhp 15\,000\n\n\nEarly Bird Rate (Until February 19\, 2026)\nPhp 13\,500\n\n\nGroup of 4 Rate (Contact Us to Register)\nPhp 12\,750\n\n\n\n\n\n\nInclusive Of\n\n\n\n\nSoft copy of Course Materials and Handouts\nSoft copy of Course Certificates
URL:https://crossworks.ph/event/auditing-artificial-intelligence-management-systems-based-on-iso-42001/
LOCATION:Online
CATEGORIES:Online
ATTACH;FMTTYPE=image/png:https://crossworks.ph/wp-content/uploads/2025/10/CourseImage-OC-AUDAI.png
ORGANIZER;CN="Crossworks Training and Consulting Corp":MAILTO:info@crossworks.ph
END:VEVENT
BEGIN:VEVENT
DTSTART;TZID=Asia/Manila:20260219T090000
DTEND;TZID=Asia/Manila:20260220T120000
DTSTAMP:20260425T094046
CREATED:20251023T225841Z
LAST-MODIFIED:20251023T225841Z
UID:10000337-1771491600-1771588800@crossworks.ph
SUMMARY:Implementing Artificial Intelligence Management Systems based on ISO 42001
DESCRIPTION:Implementing Artificial Intelligence Management Systems based on ISO 42001\n\n\nThis practical course provides participants with the knowledge and skills necessary to implement an Artificial Intelligence Management System (AIMS) based on the ISO 42001 standard. Through interactive sessions\, discussions\, and practical exercises\, participants will learn how to establish\, implement\, maintain\, and continually improve an AIMS within their organization. This course is designed for individuals who will be directly involved in the implementation and management of AI systems according to ISO 42001. \nUpon completion of this course\, participants will be able to:\n\nUnderstand the detailed requirements of ISO 42001.\nPlan and scope the implementation of an AIMS within their organization.\nEstablish the context of the organization in relation to AI and identify relevant stakeholders.\nDefine AI policies\, objectives\, and processes aligned with ISO 42001.\nConduct AI risk assessments and implement appropriate risk treatment measures.\nDevelop necessary documentation for the AIMS.\nImplement controls related to data management\, AI development lifecycle\, and validation.\nEstablish processes for monitoring\, measurement\, analysis\, and evaluation of the AIMS.\nImplement processes for addressing nonconformities and achieving continual improvement.\nUnderstand the requirements for internal audits of the AIMS.\n\nCourse Outline:\nDay 1 : \nModule 1: Detailed Review of ISO 42001 Requirements \n\nIn-depth analysis of each clause of the ISO 42001 standard:\nClauses 4: Context of the Organization (Understanding the AI landscape\, stakeholder needs)\nClause 5: Leadership (Commitment\, AI Policy\, Roles\, Responsibilities\, and Authorities)\nClause 6: Planning (Addressing Risks and Opportunities related to AI\, AI Objectives and Planning to Achieve Them)\n\nModule 2: Establishing the AIMS Framework \n\nDefining the Scope of the AIMS\nDeveloping the AI Policy and Objectives\nEstablishing Organizational Roles and Responsibilities for the AIMS\nPlanning the AIMS Implementation Project\nDocument Control and Management\n\nModule 3: Risk Assessment and Treatment for AI \n\nIdentifying AI-related Risks and Opportunities\nMethodologies for Assessing AI Risks (Bias\, Security\, Privacy\, Ethical Concerns\, etc.)\nPlanning Risk Treatment Actions\nIntegrating Risk Management into the AIMS\n\nDay 2: \nModule 4: Implementing AIMS Controls \n\nClause 7: Support (Resources\, Competence\, Awareness\, Communication\, Documented Information specific to AI)\nClause 8: Operation:\n\n\nOperational Planning and Control for AI Development Lifecycle\nData Management and Governance in AI\nRequirements for Validation and Verification of AI Systems\nHuman Oversight and Decision-Making in AI\nManagement of Changes to AI Systems\n\nModule 5: Performance Evaluation and Improvement \n\nClause 9: Performance Evaluation:\n\n\nMonitoring\, Measurement\, Analysis\, and Evaluation of the AIMS and AI performance\nInternal Auditing of the AIMS (Introduction and Planning)\nManagement Review\nClause 10: Improvement:\n\n\nAddressing Nonconformities and Taking Corrective Actions\nContinual Improvement of the AIMS\n\nModule 6: Preparing for Certification \n\nUnderstanding the ISO 42001 Certification Process\nKey Considerations for a Successful Certification Audit\nResources and Next Steps for Maintaining the AIMS\n\nCourse Duration\n\n2 half-days – Online Classroom\n\nTarget Audience:\n\nAI Project Managers and Team Members\nIT Professionals and Data Scientists involved in AI development and deployment\nRisk and Compliance Managers\nQuality Management Professionals\nIndividuals responsible for establishing and maintaining an AIMS\nConsultants advising organizations on ISO 42001 implementation\n\n\n\n\n\n\n\nCourse Name\nImplementing Artificial Intelligence Management Systems based on ISO 42001\n\n\nTraining Dates\nFebruary 19-20\, 2026\n\n\nTraining Time\n9:00AM – 12:00NN\n\n\nTraining Venue\nOnline via Zoom (link to be provided after registration)\n\n\nCourse Fee\n\n\n\n\nStandard Rate\nPhp 15\,000\n\n\nEarly Bird Rate (Until December 26\, 2025)\nPhp 13\,500\n\n\nGroup of 4 Rate (Contact Us to Register)\nPhp 12\,750\n\n\n\n\n\n\nInclusive Of\n\n\n\n\nSoft copy of Course Materials and Handouts\nSoft copy of Course Certificates
URL:https://crossworks.ph/event/implementing-artificial-intelligence-management-systems-based-on-iso-42001/
LOCATION:Online
CATEGORIES:Online
ATTACH;FMTTYPE=image/png:https://crossworks.ph/wp-content/uploads/2025/10/CourseImage-OC-IMPAI.png
ORGANIZER;CN="Crossworks Training and Consulting Corp":MAILTO:info@crossworks.ph
END:VEVENT
BEGIN:VEVENT
DTSTART;TZID=Asia/Manila:20260211T090000
DTEND;TZID=Asia/Manila:20260213T120000
DTSTAMP:20260425T094046
CREATED:20251018T073240Z
LAST-MODIFIED:20251020T072145Z
UID:10000296-1770800400-1770984000@crossworks.ph
SUMMARY:ISO 31000 Certified Risk Manager
DESCRIPTION:ISO 31000 Certified Risk Manager\n\n\n  \n \nISO 31000 Certified Risk Manager This training course is an amalgamation of theory (including here the standard ISO 31000 itself\, best practices\, and other risk management frameworks) and practice (through quizzes\, exercises\, case studies\, and the like). Upon completion of the training course\, you can sit for the exam and apply to obtain the “PECB Certified ISO 31000 Risk Manager” credential. The credential demonstrates your knowledge and ability to apply the risk management process in an organization based on the guidelines of ISO 31000 and best practices. \nRisks come from multiple sources and can appear in many shapes and sizes. Almost every strategic decision within an organization is accompanied by certain risks that the organization must acknowledge and deal with. Since without taking risks\, there is virtually no growth\, risk management should be an integral part of the processes in every organization. The ISO 31000 Risk Manager training course helps participants acquire the knowledge necessary and ability to integrate the risk management guidelines of ISO 31000 in an organization. It provides information with regard to the risk management principles and their application\, as well as the core elements of the risk management framework and steps for a risk management process. In addition\, it provides the basic approaches\, methods\, and practices for assessing risk in a wide range of situations. \nAt the end of this course\, the participants should be able to:\n\nDemonstrate understanding of risk management principles\, as formulated in ISO 31000\nEstablish\, maintain\, and continually improve a risk management framework\, in accordance with ISO 31000 guidelines\nApply the risk management process\, in accordance with ISO 31000 guidelines\n\nCourse Outline\n\nDay 1 – Introduction to risk management and establishing the risk management framework\n\nCourse objectives and structure\nStandards and regulatory frameworks\nIntroduction to ISO 31000 concepts and principles\nISO 31000 principles\, framework\, and process\nEstablishing the framework and defining the governance\n\n\nDay 2 – Initiation of the Risk management and risk assessment based on ISO 31000\n\nScope\, context and risk criteria\nRisk identification\nRisk analysis\nRisk evaluation\n\n\nDay 3 – Risk treatment\, recording and reporting\, monitoring and review and communication and consultation according to ISO 31000\n\nRisk treatment\nRecording and reporting\nMonitoring and review\nCommunication and consultation\nClosing of the training course\n\n\n\nCertification Exam\n\nOnline examination to be taken anytime after the course\n\nCourse Duration\n\n3 half days – online (with offline activities)\n\nDelivery Methodologies\n\nThe training course is based on theory and best practices used in risk management.\nOnline lecture sessions are illustrated with practical examples.\nThe participants are encouraged to communicate and engage in discussions and exercises.\nThe exercises are similar in structure with the certification exam questions.\n\nThis course is recommended for\n\nManagers or consultants responsible for the effective management of risk in an organization\nIndividuals seeking to gain knowledge about the risk management principles\, framework and process\nIndividuals responsible for the creation and creation and protection of value in their organizations\nIndividuals interested in pursuing a career in risk management\n\n\nCrossworks Training and Consulting Corporation is a partner of the Professional Evaluation and Certification Board based in Canada. We conduct official trainings and proctor certification exams that are recognized and well regarded by industries globally.\n \n\n\n\n\n\nCourse Name\nISO 31000 Certified Risk Manager\n\n\nTraining Dates\nFebruary 11-13\, 2026\n\n\nTraining Time\n9:00AM – 12:00NN\n\n\nTraining Venue\nOnline via Zoom (link to be provided after registration)\n\n\nCourse Fee\n\n\n\n\nStandard Rate\nPhp 42\,000\n\n\nEarly Bird Rate (Until January 28\, 2026)\nPhp 39\,900\n\n\nGroup of 4 Rate (Contact Us to Register)\nPhp 37\,800\n\n\n\n\n\n\nInclusive Of\n\n\n\n\nSoft copy of Course Materials and Handouts\nSoft copy of Course Certificates\nCertification Exam Voucher
URL:https://crossworks.ph/event/iso-31000-certified-risk-manager/
LOCATION:Online
CATEGORIES:Online
ATTACH;FMTTYPE=image/webp:https://crossworks.ph/wp-content/uploads/2023/06/CourseImage-OC-CRM.webp
ORGANIZER;CN="Crossworks Training and Consulting Corp":MAILTO:info@crossworks.ph
END:VEVENT
END:VCALENDAR