BEGIN:VCALENDAR
VERSION:2.0
PRODID:-//Crossworks - Project Management. Leadership. Design Thinking Trainings. - ECPv6.15.20//NONSGML v1.0//EN
CALSCALE:GREGORIAN
METHOD:PUBLISH
X-ORIGINAL-URL:https://crossworks.ph
X-WR-CALDESC:Events for Crossworks - Project Management. Leadership. Design Thinking Trainings.
REFRESH-INTERVAL;VALUE=DURATION:PT1H
X-Robots-Tag:noindex
X-PUBLISHED-TTL:PT1H
BEGIN:VTIMEZONE
TZID:Asia/Manila
BEGIN:STANDARD
TZOFFSETFROM:+0800
TZOFFSETTO:+0800
TZNAME:PST
DTSTART:20250101T000000
END:STANDARD
END:VTIMEZONE
BEGIN:VEVENT
DTSTART;TZID=Asia/Manila:20261107T090000
DTEND;TZID=Asia/Manila:20261205T180000
DTSTAMP:20260420T055524
CREATED:20251020T110641Z
LAST-MODIFIED:20260410T114630Z
UID:10000303-1794042000-1796493600@crossworks.ph
SUMMARY:Project Management Professional (PMP) Review Course (Saturday Classes)
DESCRIPTION:Project Management Professional (PMP) Review Course\nJuly 2026 Exam Format\n\n\n \nStep into a fast-paced\, real-world learning experience designed to help you run projects with clarity\, control\, and confidence—while strengthening the competencies aligned with the PMP® exam. In this immersive five-day program\, you’ll translate proven global standards and an agile mindset into practical tools you can use immediately: win stakeholder buy-in\, lock in scope and success criteria\, build an integrated project plan\, manage resources and budgets\, improve quality and scheduling\, and stay ahead of risk\, change\, and issues. Walk away with a complete\, end-to-end approach to delivering measurable value—plus the language\, structure\, and best practices that elevate your credibility as a project leader. \nWhat’s more\, this course fully satisfies the 35 contact hours required to apply for the PMP® Exam! Take the first step in becoming a globally certified Project Management Professional. \nAt the end of this course\, participants should be able to\n\nUse core project management concepts and principles—plus agile approaches and tailoring—to select the right way of working for any project.\nKick-start projects with strong foundations: craft a clear vision\, engage stakeholders early\, align expectations\, and set fit-for-purpose governance.\nDefine scope\, value\, and success criteria you can manage—then keep delivery on track while meeting compliance requirements.\nBuild an integrated project management plan and apply practical methods to manage resources and control project finances.\nPlan procurement\, bake in quality\, and build schedules that improve predictability—so teams deliver what matters\, when it matters.\nCommunicate with impact\, ensure knowledge transfer\, and lead teams through conflict with confidence and professionalism.\nStay in control as work evolves: manage risks\, control changes\, and resolve issues; monitor performance to keep stakeholders aligned; and close projects cleanly while capturing lessons to fuel continuous improvement.\n\nCourse Outline\n\nLesson 1: Foundations\n\nFoundational Project Management Concepts\nProject Management Principles\nThe Agile Mindset\nTailoring\n\n\nLesson 2: Setting the Foundation\n\nDeveloping a Common Vision\nEngaging your Stakeholders\nAligning Stakeholder Expectations\nDefining and Establishing Governance\n\n\nLesson 3: Defining Project Scope\, Value\, and Success Criteria\n\nDeveloping and Managing Project Scope\nEnsuring Value-Based Delivery\nPlanning and Managing Project Compliance\n\n\nLesson 4: Building the PM Plan – Integration\, Resources\, Finance\n\nDeveloping an Integrated PM Plan and Plan Delivery\nPlanning and Managing Resources\nPlanning and Managing Finance\n\n\nLesson 5: Procurement\, Quality\, and Scheduling\n\nPlan and Manage Procurement\nPlanning and Optimizing Quality Products and Deliverables\nPlanning and Managing the Schedule\n\n\nLesson 6: Communicating and Transferring Knowledge\n\nHelp Ensure Knowledge Transfer\nPlanning and Managing Communication\n\n\nLesson 7: Leading and Empowering the Team\n\nManaging Conflicts\nLeading the Project Team\n\n\nLesson 8: Managing Risks\, Changes\, and Issues\n\nPlanning for and managing risks\nPlanning and Controlling Changes\nRemoving Impediments and Managing Issues\n\n\nLesson 9: Monitoring Progress and Maintaining Alignment\n\nManaging Stakeholder Expectations\nEvaluating Project Status\n\n\nLesson 10: Closing the Project Successfully\n\nManaging Closures\n\n\nLesson 11: Driving Continuous Organizational Improvement\n\nContinuous Improvement\nSupport Organizational Change\nEvaluate External Business Environment Changes\n\n\nLesson 12: Next Steps\n\nCourse Duration\n\n5 days – face to face (Every Saturday)\n\nDelivery Methodologies\n\nLecture\nPlenary Discussions\nReal World Examples\n\nThis course is recommended for\n\nExperienced Project Managers who want to take the PMP Certification Exam\nCAPM® Certification holders who want to take up the PMP Certification\nProject Managers who want to have a complete understanding of global project management standards and principles\n\nCrossworks Training and Consulting Corporation is an Authorized Training Partner of the Project Management Institute. You are guaranteed of quality training materials and exclusive content directly from PMI\, the de facto organization for project management globally. Our project manager trainers are all top caliber and have handled extensive projects in various industries. \n\n\n\n\n\nCourse Name\nProject Management Professional (PMP) Review Course (Saturday Classes)\n\n\nTraining Dates\nNovember 7\, 14\, 21\, 28\, Dec 5\, 2026\n\n\nTraining Time\n9:00AM – 6:00PM\n\n\nTraining Venue\nMarco Polo Ortigas Manila\n\n\nCourse Fee\n\n\n\n\nStandard Rate\nPhp 50\,000\n\n\nEarly Bird Rate (Until October 24\, 2026)\nPhp 47\,500\n\n\nGroup of 4 Rate (Contact Us to Register)\nPhp 45\,000\n\n\nOptional Add-On PMP Exam Fee Bundle\n+ Php 36\,000\n\n\n\n\n\n\nInclusive Of\n\n\n\n\nOfficial PMI PMP Review Course Materials\nCrossworks Proprietary Supplemental Handouts\nAccess to Crossworks’ PMP Exam Simulator\nCourse Certificates\nBuffet Lunch and AM/PM Snacks\nOptional Add-On (PMP Exam Fee* + 1 Year PMI Membership* + Crosswork’s 2 month Study Plan and Videos)\n\n\n\n*Must be activated immediately after training. You may take the exam within one year after approval by PMI.
URL:https://crossworks.ph/event/project-management-professional-pmp-review-course-saturday-classes-5/
LOCATION:Marco Polo Ortigas Manila\, Meralco Avenue\, Sapphire Rd\, Ortigas Center\,\, Pasig\, Metro Manila\, 1600\, Philippines
CATEGORIES:Face-to-Face
ATTACH;FMTTYPE=image/png:https://crossworks.ph/wp-content/uploads/2025/10/CourseImage-EB-PMP-2026.png
ORGANIZER;CN="Crossworks Training and Consulting Corp":MAILTO:info@crossworks.ph
END:VEVENT
BEGIN:VEVENT
DTSTART;TZID=Asia/Manila:20261118T090000
DTEND;TZID=Asia/Manila:20261120T120000
DTSTAMP:20260420T055524
CREATED:20251020T074205Z
LAST-MODIFIED:20251020T074241Z
UID:10000299-1794992400-1795176000@crossworks.ph
SUMMARY:ISO 31000 Certified Risk Manager
DESCRIPTION:ISO 31000 Certified Risk Manager\n\n\n  \n \nISO 31000 Certified Risk Manager This training course is an amalgamation of theory (including here the standard ISO 31000 itself\, best practices\, and other risk management frameworks) and practice (through quizzes\, exercises\, case studies\, and the like). Upon completion of the training course\, you can sit for the exam and apply to obtain the “PECB Certified ISO 31000 Risk Manager” credential. The credential demonstrates your knowledge and ability to apply the risk management process in an organization based on the guidelines of ISO 31000 and best practices. \nRisks come from multiple sources and can appear in many shapes and sizes. Almost every strategic decision within an organization is accompanied by certain risks that the organization must acknowledge and deal with. Since without taking risks\, there is virtually no growth\, risk management should be an integral part of the processes in every organization. The ISO 31000 Risk Manager training course helps participants acquire the knowledge necessary and ability to integrate the risk management guidelines of ISO 31000 in an organization. It provides information with regard to the risk management principles and their application\, as well as the core elements of the risk management framework and steps for a risk management process. In addition\, it provides the basic approaches\, methods\, and practices for assessing risk in a wide range of situations. \nAt the end of this course\, the participants should be able to:\n\nDemonstrate understanding of risk management principles\, as formulated in ISO 31000\nEstablish\, maintain\, and continually improve a risk management framework\, in accordance with ISO 31000 guidelines\nApply the risk management process\, in accordance with ISO 31000 guidelines\n\nCourse Outline\n\nDay 1 – Introduction to risk management and establishing the risk management framework\n\nCourse objectives and structure\nStandards and regulatory frameworks\nIntroduction to ISO 31000 concepts and principles\nISO 31000 principles\, framework\, and process\nEstablishing the framework and defining the governance\n\n\nDay 2 – Initiation of the Risk management and risk assessment based on ISO 31000\n\nScope\, context and risk criteria\nRisk identification\nRisk analysis\nRisk evaluation\n\n\nDay 3 – Risk treatment\, recording and reporting\, monitoring and review and communication and consultation according to ISO 31000\n\nRisk treatment\nRecording and reporting\nMonitoring and review\nCommunication and consultation\nClosing of the training course\n\n\n\nCertification Exam\n\nOnline examination to be taken anytime after the course\n\nCourse Duration\n\n3 half days – online (with offline activities)\n\nDelivery Methodologies\n\nThe training course is based on theory and best practices used in risk management.\nOnline lecture sessions are illustrated with practical examples.\nThe participants are encouraged to communicate and engage in discussions and exercises.\nThe exercises are similar in structure with the certification exam questions.\n\nThis course is recommended for\n\nManagers or consultants responsible for the effective management of risk in an organization\nIndividuals seeking to gain knowledge about the risk management principles\, framework and process\nIndividuals responsible for the creation and creation and protection of value in their organizations\nIndividuals interested in pursuing a career in risk management\n\n\nCrossworks Training and Consulting Corporation is a partner of the Professional Evaluation and Certification Board based in Canada. We conduct official trainings and proctor certification exams that are recognized and well regarded by industries globally.\n \n\n\n\n\n\nCourse Name\nISO 31000 Certified Risk Manager\n\n\nTraining Dates\nNovember 18-20\, 2026\n\n\nTraining Time\n9:00AM – 12:00NN\n\n\nTraining Venue\nOnline via Zoom (link to be provided after registration)\n\n\nCourse Fee\n\n\n\n\nStandard Rate\nPhp 42\,000\n\n\nEarly Bird Rate (Until November 4\, 2026)\nPhp 39\,900\n\n\nGroup of 4 Rate (Contact Us to Register)\nPhp 37\,800\n\n\n\n\n\n\nInclusive Of\n\n\n\n\nSoft copy of Course Materials and Handouts\nSoft copy of Course Certificates\nCertification Exam Voucher
URL:https://crossworks.ph/event/iso-31000-certified-risk-manager-4/
LOCATION:Online
CATEGORIES:Online
ATTACH;FMTTYPE=image/webp:https://crossworks.ph/wp-content/uploads/2023/06/CourseImage-OC-CRM.webp
ORGANIZER;CN="Crossworks Training and Consulting Corp":MAILTO:info@crossworks.ph
END:VEVENT
BEGIN:VEVENT
DTSTART;TZID=Asia/Manila:20261118T090000
DTEND;TZID=Asia/Manila:20261120T180000
DTSTAMP:20260420T055524
CREATED:20251021T123442Z
LAST-MODIFIED:20260114T044531Z
UID:10000312-1794992400-1795197600@crossworks.ph
SUMMARY:Certified Associate in Project Management (CAPM) Review Course
DESCRIPTION:Certified Associate in Project Management (CAPM) Review Course\n\n\nPrepare to jumpstart your project management career with the PMI Certified Associate in Project Management (CAPM)® Certification Course. This comprehensive program equips aspiring project professionals with a solid foundation in project management principles\, practices\, and terminology as outlined in the PMBOK® Guide. Whether you’re new to project management or seeking formal recognition of your skills\, this course provides the essential knowledge and exam strategies needed to confidently pass the CAPM® exam. Through interactive learning\, real-world examples\, and practice questions\, participants will gain the tools to effectively contribute to project teams and advance their professional journey in project management. \nAt the end of this course\, participants should be able to\n\nDiscuss the fundamentals of project management\, including the different roles within the project environment.\nSelect the appropriate development approach and life cycle to use for specific projects\nDescribe the importance of Business Analysis in projects\nDiscuss the various activities and artifacts in starting a project\nPlan projects using a plan-based methodology\nPlan projects using an adaptive approach\nManage Project work and delivery\nBe ready to take the CAPM Exam\n\nCourse Outline\n\n\nDay 1\n\nCourse Overview\n\nProjects\nThe CAPM® Professional\nThe Project Management Institute\nAbout this Course\n\n\nProject Management Fundamentals\n\nWhat is a Project\nProject Management Challenges\nProject or Operational Work?\nPrograms and Portfolios\nThe Project Environment\n\n\nOrganizing for Project Performance\n\nStakeholder\nProject Sponsor Role\nProject Manager Role\nProject Team\n\n\nDevelopment Approach and Life Cycle\n\nFundamentals of Project Life Cycle\nTailoring the Project Life Cycle and Development Approach\nProject Activities\, Deliverables\, and Milestones\n\n\nBusiness Analysis Frameworks\n\nThe importance of Business Analysis\nThe Business Analyst Role\nRequirements as Focus of Business Analysis\nStakeholders of the Business Analyst\nInfluence of Project Approaches of Business Analysis\n\n\nStarting a Project\n\nUnderstanding the Business Case\nCreating the Project Charter\nEstablishing Communications\nSelecting and Tailoring the Project Approach\n\n\n\nDay 2\n\nPredictive\, Plan-Based Methodology\n\nTailoring a Project Life Cycle\nDeveloping a Project Management Plan – Scope and Schedule (includes Resources and Costs)\nDeveloping a Project Management Plan – Quality\nDeveloping a Project Management Plan – Uncertainty and Risks\nProject Integration\n\n\nAdaptive Approaches\n\nFoundation and Considerations for Adaptive Approaches\nTypical Steps in Adaptive Projects\nPlan Releases and Iterations\nAdaptive Approaches and Frameworks\n\n\n\nDay 3\n\nProject Work and Delivery\n\nEngaging Stakeholders\nMonitoring and Controlling Processes\nDetecting and Solving Problems\nMeasuring Performance\nApply Project Controls and Forecasting\nValidating Requirements through Project Delivery\nClosing and Transitioning\n\n\nConclusion\n\n\n\nCourse Duration\n\n3 days – face to face\n\nDelivery Methodologies\n\nLecture\nPlenary Discussions\n\nThis course is recommended for\n\nNew project managers and those who have not had formal training in project management\nProject Managers who want to acquire PMI Certification but have not yet garnered the necessary experience hours\nProfessionals who want to transition to project management\n\nCrossworks Training and Consulting Corporation is an Authorized Training Partner of the Project Management Institute. You are guaranteed of quality training materials and exclusive content directly from PMI\, the de facto organization for project management globally. Our project manager trainers are all top caliber and have handled extensive projects in various industries. \n\n\n\n\n\nCourse Name\nCertified Associate in Project Management (CAPM) Review Course\n\n\nTraining Dates\nNovember 18-20\, 2026\n\n\nTraining Time\n9:00AM – 6:00PM\n\n\nTraining Venue\nMarco Polo Ortigas Manila\n\n\nCourse Fee\n\n\n\n\nStandard Rate\nPhp 35\,000\n\n\nEarly Bird Rate (Until November 4\, 2026)\nPhp 33\,250\n\n\nGroup of 4 Rate (Contact Us to Register)\nPhp 31\,500\n\n\nOptional Add-On PMI-ACP Exam Fee Bundle\n+ Php 32\,000\n\n\n\n\n\n\nInclusive Of\n\n\n\n\nOfficial PMI CAPM Review Course Materials\nCrossworks Proprietary Supplemental Handouts\nCourse Certificates\nBuffet Lunch and AM/PM Snacks (Buffet Lunch is subject to hotel availability; otherwise\, plated lunch)\nOptional Add-On (CAPM Exam Fee* + 1 Year PMI Membership* + Crosswork’s 2 month Study Plan and Videos)\n\n\n\n*Must be activated immediately after the training date.\n\n\n\n 
URL:https://crossworks.ph/event/certified-associate-in-project-management-capm-review-course-4/
LOCATION:Marco Polo Ortigas Manila\, Meralco Avenue\, Sapphire Rd\, Ortigas Center\,\, Pasig\, Metro Manila\, 1600\, Philippines
CATEGORIES:Face-to-Face
ATTACH;FMTTYPE=image/png:https://crossworks.ph/wp-content/uploads/2025/06/CourseImage-EB-CAPM.png
ORGANIZER;CN="Crossworks Training and Consulting Corp":MAILTO:info@crossworks.ph
END:VEVENT
END:VCALENDAR